BEGIN:VCALENDAR
VERSION:2.0
PRODID:-//Islamic Center of Southern California - ECPv6.15.20//NONSGML v1.0//EN
CALSCALE:GREGORIAN
METHOD:PUBLISH
X-ORIGINAL-URL:https://islamiccenter.com
X-WR-CALDESC:Events for Islamic Center of Southern California
REFRESH-INTERVAL;VALUE=DURATION:PT1H
X-Robots-Tag:noindex
X-PUBLISHED-TTL:PT1H
BEGIN:VTIMEZONE
TZID:America/Los_Angeles
BEGIN:DAYLIGHT
TZOFFSETFROM:-0800
TZOFFSETTO:-0700
TZNAME:PDT
DTSTART:20250309T100000
END:DAYLIGHT
BEGIN:STANDARD
TZOFFSETFROM:-0700
TZOFFSETTO:-0800
TZNAME:PST
DTSTART:20251102T090000
END:STANDARD
BEGIN:DAYLIGHT
TZOFFSETFROM:-0800
TZOFFSETTO:-0700
TZNAME:PDT
DTSTART:20260308T100000
END:DAYLIGHT
BEGIN:STANDARD
TZOFFSETFROM:-0700
TZOFFSETTO:-0800
TZNAME:PST
DTSTART:20261101T090000
END:STANDARD
BEGIN:DAYLIGHT
TZOFFSETFROM:-0800
TZOFFSETTO:-0700
TZNAME:PDT
DTSTART:20270314T100000
END:DAYLIGHT
BEGIN:STANDARD
TZOFFSETFROM:-0700
TZOFFSETTO:-0800
TZNAME:PST
DTSTART:20271107T090000
END:STANDARD
END:VTIMEZONE
BEGIN:VEVENT
DTSTART;TZID=America/Los_Angeles:20260426T103000
DTEND;TZID=America/Los_Angeles:20260426T111500
DTSTAMP:20260422T054220
CREATED:20250812T224551Z
LAST-MODIFIED:20250914T200918Z
UID:10002225-1777199400-1777202100@islamiccenter.com
SUMMARY:Parent Circle
DESCRIPTION:10:30 AM – 11:15 AM | Lecture Hall \nConnect with fellow parents in a welcoming space as we explore meaningful discussions on spirituality\, parenting\, and child development. Let’s learn\, share\, and grow together! \n 
URL:https://islamiccenter.com/event/parent-circle-2/2026-04-26/
LOCATION:Islamic Center of Southern California\, 434 S. Vermont Ave.\, Los Angeles\, CA\, 90020\, United States
ATTACH;FMTTYPE=image/png:https://islamiccenter.com/wp-content/uploads/2025/08/parentcircle-calendarimage.png
END:VEVENT
BEGIN:VEVENT
DTSTART;TZID=America/Los_Angeles:20260426T110000
DTEND;TZID=America/Los_Angeles:20260426T130000
DTSTAMP:20260422T054220
CREATED:20250812T224619Z
LAST-MODIFIED:20250812T224619Z
UID:10001451-1777201200-1777208400@islamiccenter.com
SUMMARY:MYG/JYG Session
DESCRIPTION:Join us for our MYG/JYG Sunday sessions every week from 11:00 AM to 1:00 PM. Please note that there are occasional breaks during the winter\, summer\, and Ramadan seasons. These sessions are a great opportunity for youth to come together\, learn\, and grow in a supportive community. \nSign Up Today!
URL:https://islamiccenter.com/event/myg-jyg-session-2/2026-04-26/
LOCATION:Islamic Center of Southern California\, 434 S. Vermont Ave.\, Los Angeles\, CA\, 90020\, United States
ATTACH;FMTTYPE=image/png:https://islamiccenter.com/wp-content/uploads/2025/03/myg-calendar-image.png
ORGANIZER;CN="MYG/JYG":MAILTO:myg@9vr.abe.myftpupload.com
END:VEVENT
BEGIN:VEVENT
DTSTART;TZID=America/Los_Angeles:20260426T131500
DTEND;TZID=America/Los_Angeles:20260426T141500
DTSTAMP:20260422T054220
CREATED:20250812T224457Z
LAST-MODIFIED:20250914T201029Z
UID:10002546-1777209300-1777212900@islamiccenter.com
SUMMARY:Qur'an Memorization Class
DESCRIPTION:Every Sunday | $30/Month\n1:15 PM | Lecture Hall \nOur Qur’an Memorization Class is open to both youth and adults looking to strengthen their memorization skills and deepen their connection to the Qur’an. Join us on this rewarding journey of learning and spiritual growth! \nClick Here to Register
URL:https://islamiccenter.com/event/quran-memorization-class-2/2026-04-26/
LOCATION:Islamic Center of Southern California\, 434 S. Vermont Ave.\, Los Angeles\, CA\, 90020\, United States
ATTACH;FMTTYPE=image/png:https://islamiccenter.com/wp-content/uploads/2025/08/quran-memorizationsclass.png
END:VEVENT
BEGIN:VEVENT
DTSTART;TZID=America/Los_Angeles:20260428T190000
DTEND;TZID=America/Los_Angeles:20260428T200000
DTSTAMP:20260422T054220
CREATED:20250914T163458Z
LAST-MODIFIED:20250914T163458Z
UID:10003044-1777402800-1777406400@islamiccenter.com
SUMMARY:Recite & Reflect Class
DESCRIPTION:Tuesdays after Maghrib\nYouth Hall (upstairs) \nDon’t miss this unique opportunity to strengthen your Qur’an recitation skills and deepen your understanding and reflection on its verses. Led by Sheikh Asim Buyuksoy\, this interactive class takes place every Tuesday after Maghrib at ICSC. Spots are limited\, so register today and take a meaningful step in your Qur’anic journey. \nClick Here to Register. * Registration is FREE!
URL:https://islamiccenter.com/event/recite-reflect-class/2026-04-28/
LOCATION:Islamic Center of Southern California\, 434 S. Vermont Ave.\, Los Angeles\, CA\, 90020\, United States
ATTACH;FMTTYPE=image/png:https://islamiccenter.com/wp-content/uploads/2025/06/rcite-reflect-class.png
END:VEVENT
BEGIN:VEVENT
DTSTART;TZID=America/Los_Angeles:20260501T133000
DTEND;TZID=America/Los_Angeles:20260501T143000
DTSTAMP:20260422T054220
CREATED:20250423T225301Z
LAST-MODIFIED:20250914T181533Z
UID:10002446-1777642200-1777645800@islamiccenter.com
SUMMARY:Community Meet & Greet
DESCRIPTION:1st Friday of Each Month \nICSC Youth Hall (upstairs) | 1:30 PM \nJoin us for our monthly community building initiative where congregants have the opportunity to come together after Jummah every first Friday of the month with light refreshment and mingling.
URL:https://islamiccenter.com/event/community-meet-greet/2026-05-01/
LOCATION:Islamic Center of Southern California\, 434 S. Vermont Ave.\, Los Angeles\, CA\, 90020\, United States
ATTACH;FMTTYPE=image/png:https://islamiccenter.com/wp-content/uploads/2025/04/meetgreet.png
END:VEVENT
BEGIN:VEVENT
DTSTART;TZID=America/Los_Angeles:20260523T183000
DTEND;TZID=America/Los_Angeles:20260523T193000
DTSTAMP:20260422T054220
CREATED:20260415T210857Z
LAST-MODIFIED:20260415T210857Z
UID:10003248-1779561000-1779564600@islamiccenter.com
SUMMARY:Spiritual Night- Mothers in Islam
DESCRIPTION:Spiritual Night\n“Mothers in Islam”\nSaturday\, May 23\, 2026 | 6:30 PM \nNourish your heart and connect with the community at our quarterly Spiritual Night. Join us for an evening of reflection\, spiritual renewal\, and togetherness\, with refreshments and children’s activities provided. \n 
URL:https://islamiccenter.com/event/spiritual-night-mothers-in-islam/
LOCATION:Islamic Center of Southern California\, 434 S. Vermont Ave.\, Los Angeles\, CA\, 90020\, United States
END:VEVENT
BEGIN:VEVENT
DTSTART;TZID=America/Los_Angeles:20260527T073000
DTEND;TZID=America/Los_Angeles:20260527T083000
DTSTAMP:20260422T054220
CREATED:20260408T211456Z
LAST-MODIFIED:20260415T210710Z
UID:10003247-1779867000-1779870600@islamiccenter.com
SUMMARY:Eid al-Adha
DESCRIPTION:Join us for a special Eid al-Adha prayer at the ICSC. We look forward to welcoming you and your loved ones for this special occasion. \nWednesday\, May 27\, 2026 \n\nDate subject to change- confirmed date to be announced week of May 17\n\n1st Prayer \nTakbeerat- 7:30 AM \nPrayer & Khutbah- 8:00 AM \nKhateeb: Dr. Gasser Hathout \n  \n2nd Prayer \nTakbeerat- 9:15 AM \nPrayer & Khutba- 9:30 AM \nKhateeb: Sheikh Asim Buyuksoy \nWatch live with us on Facebook\, Youtube\, & www.icsclive.com. \n \n 
URL:https://islamiccenter.com/event/eid-al-adha-2/
LOCATION:Islamic Center of Southern California\, 434 S. Vermont Ave.\, Los Angeles\, CA\, 90020\, United States
CATEGORIES:Prayer
END:VEVENT
END:VCALENDAR